Workbook

Sheet Productos
A1: Código | B1: Producto | C1: Categoría | D1: Unidad | E1: Stock inicial | F1: Entradas | G1: Salidas | H1: Stock actual | I1: Mínimo | J1: Reponer | K1: Costo unitario | L1: Valor
F2: =IF(A2="","",SUMIFS(Movimientos!$D$2:$D$501,Movimientos!$B$2:$B$501,A2,Movimientos!$C$2:$C$501,"Entrada")) | G2: =IF(A2="","",SUMIFS(Movimientos!$D$2:$D$501,Movimientos!$B$2:$B$501,A2,Movimientos!$C$2:$C$501,"Salida")) | H2: =IF(A2="","",E2+F2-G2) | J2: =IF(A2="","",IF(H2<=I2,"Sí","No")) | L2: =IF(A2="","",H2*K2)
F3: =IF(A3="","",SUMIFS(Movimientos!$D$2:$D$501,Movimientos!$B$2:$B$501,A3,Movimientos!$C$2:$C$501,"Entrada")) | G3: =IF(A3="","",SUMIFS(Movimientos!$D$2:$D$501,Movimientos!$B$2:$B$501,A3,Movimientos!$C$2:$C$501,"Salida")) | H3: =IF(A3="","",E3+F3-G3) | J3: =IF(A3="","",IF(H3<=I3,"Sí","No")) | L3: =IF(A3="","",H3*K3)
F4: =IF(A4="","",SUMIFS(Movimientos!$D$2:$D$501,Movimientos!$B$2:$B$501,A4,Movimientos!$C$2:$C$501,"Entrada")) | G4: =IF(A4="","",SUMIFS(Movimientos!$D$2:$D$501,Movimientos!$B$2:$B$501,A4,Movimientos!$C$2:$C$501,"Salida")) | H4: =IF(A4="","",E4+F4-G4) | J4: =IF(A4="","",IF(H4<=I4,"Sí","No")) | L4: =IF(A4="","",H4*K4)
F5: =IF(A5="","",SUMIFS(Movimientos!$D$2:$D$501,Movimientos!$B$2:$B$501,A5,Movimientos!$C$2:$C$501,"Entrada")) | G5: =IF(A5="","",SUMIFS(Movimientos!$D$2:$D$501,Movimientos!$B$2:$B$501,A5,Movimientos!$C$2:$C$501,"Salida")) | H5: =IF(A5="","",E5+F5-G5) | J5: =IF(A5="","",IF(H5<=I5,"Sí","No")) | L5: =IF(A5="","",H5*K5)
F6: =IF(A6="","",SUMIFS(Movimientos!$D$2:$D$501,Movimientos!$B$2:$B$501,A6,Movimientos!$C$2:$C$501,"Entrada")) | G6: =IF(A6="","",SUMIFS(Movimientos!$D$2:$D$501,Movimientos!$B$2:$B$501,A6,Movimientos!$C$2:$C$501,"Salida")) | H6: =IF(A6="","",E6+F6-G6) | J6: =IF(A6="","",IF(H6<=I6,"Sí","No")) | L6: =IF(A6="","",H6*K6)
F7: =IF(A7="","",SUMIFS(Movimientos!$D$2:$D$501,Movimientos!$B$2:$B$501,A7,Movimientos!$C$2:$C$501,"Entrada")) | G7: =IF(A7="","",SUMIFS(Movimientos!$D$2:$D$501,Movimientos!$B$2:$B$501,A7,Movimientos!$C$2:$C$501,"Salida")) | H7: =IF(A7="","",E7+F7-G7) | J7: =IF(A7="","",IF(H7<=I7,"Sí","No")) | L7: =IF(A7="","",H7*K7)
F8: =IF(A8="","",SUMIFS(Movimientos!$D$2:$D$501,Movimientos!$B$2:$B$501,A8,Movimientos!$C$2:$C$501,"Entrada")) | G8: =IF(A8="","",SUMIFS(Movimientos!$D$2:$D$501,Movimientos!$B$2:$B$501,A8,Movimientos!$C$2:$C$501,"Salida")) | H8: =IF(A8="","",E8+F8-G8) | J8: =IF(A8="","",IF(H8<=I8,"Sí","No")) | L8: =IF(A8="","",H8*K8)
F9: =IF(A9="","",SUMIFS(Movimientos!$D$2:$D$501,Movimientos!$B$2:$B$501,A9,Movimientos!$C$2:$C$501,"Entrada")) | G9: =IF(A9="","",SUMIFS(Movimientos!$D$2:$D$501,Movimientos!$B$2:$B$501,A9,Movimientos!$C$2:$C$501,"Salida")) | H9: =IF(A9="","",E9+F9-G9) | J9: =IF(A9="","",IF(H9<=I9,"Sí","No")) | L9: =IF(A9="","",H9*K9)
F10: =IF(A10="","",SUMIFS(Movimientos!$D$2:$D$501,Movimientos!$B$2:$B$501,A10,Movimientos!$C$2:$C$501,"Entrada")) | G10: =IF(A10="","",SUMIFS(Movimientos!$D$2:$D$501,Movimientos!$B$2:$B$501,A10,Movimientos!$C$2:$C$501,"Salida")) | H10: =IF(A10="","",E10+F10-G10) | J10: =IF(A10="","",IF(H10<=I10,"Sí","No")) | L10: =IF(A10="","",H10*K10)
F11: =IF(A11="","",SUMIFS(Movimientos!$D$2:$D$501,Movimientos!$B$2:$B$501,A11,Movimientos!$C$2:$C$501,"Entrada")) | G11: =IF(A11="","",SUMIFS(Movimientos!$D$2:$D$501,Movimientos!$B$2:$B$501,A11,Movimientos!$C$2:$C$501,"Salida")) | H11: =IF(A11="","",E11+F11-G11) | J11: =IF(A11="","",IF(H11<=I11,"Sí","No")) | L11: =IF(A11="","",H11*K11)
F12: =IF(A12="","",SUMIFS(Movimientos!$D$2:$D$501,Movimientos!$B$2:$B$501,A12,Movimientos!$C$2:$C$501,"Entrada")) | G12: =IF(A12="","",SUMIFS(Movimientos!$D$2:$D$501,Movimientos!$B$2:$B$501,A12,Movimientos!$C$2:$C$501,"Salida")) | H12: =IF(A12="","",E12+F12-G12) | J12: =IF(A12="","",IF(H12<=I12,"Sí","No")) | L12: =IF(A12="","",H12*K12)
F13: =IF(A13="","",SUMIFS(Movimientos!$D$2:$D$501,Movimientos!$B$2:$B$501,A13,Movimientos!$C$2:$C$501,"Entrada")) | G13: =IF(A13="","",SUMIFS(Movimientos!$D$2:$D$501,Movimientos!$B$2:$B$501,A13,Movimientos!$C$2:$C$501,"Salida")) | H13: =IF(A13="","",E13+F13-G13) | J13: =IF(A13="","",IF(H13<=I13,"Sí","No")) | L13: =IF(A13="","",H13*K13)
... F501: =IF(A501="","",SUMIFS(Movimientos!$D$2:$D$501,Movimientos!$B$2:$B$501,A501,Movimientos!$C$2:$C$501,"Entrada")) | G501: =IF(A501="","",SUMIFS(Movimientos!$D$2:$D$501,Movimientos!$B$2:$B$501,A501,Movimientos!$C$2:$C$501,"Salida")) | H501: =IF(A501="","",E501+F501-G501) | J501: =IF(A501="","",IF(H501<=I501,"Sí","No")) | L501: =IF(A501="","",H501*K501)

Sheet Movimientos
A1: Fecha | B1: Código | C1: Tipo | D1: Cantidad | E1: Motivo

Sheet Instrucciones
A1: MaatWork · Plantilla libre, sin registro
A2: Productos: usá un código único por producto. Completá stock inicial, mínimo y costo unitario; Entradas, Salidas, Stock actual, Reponer y Valor se calculan.
A3: Movimientos: copiá el código del producto, elegí Entrada o Salida y cargá una cantidad positiva. No cargues una salida como cantidad negativa.
A4: Stock actual = inicial + entradas − salidas. Reponer muestra Sí cuando actual ≤ mínimo. Valor = stock actual × costo unitario. Sin código, el resultado queda vacío.
A5: La planilla no comprueba que un código exista, no evita duplicados ni bloquea stock negativo. Revisá las cargas y los códigos.
A6: Hay 500 filas preparadas: de la 2 a la 501. No borres las fórmulas de las columnas calculadas.
A7: Las fórmulas se recalculan al abrir el archivo en una aplicación compatible con XLSX. Usan nombres internos de Excel en inglés.
A8: El archivo no tiene macros, vínculos externos ni conexiones de red. Guardá copias de respaldo en tu equipo.
A9: Evitá cargar información sensible o datos de otras personas que no necesites para trabajar.
A10: Cuando necesites permisos, historial o integraciones, revisá con MaatWork cómo pasar la planilla a un sistema: maat.work/revision-gratis
